{"text_format":"1","workbook":"xlsx","n_sheets":3,"sheets":["deutsch","français","Alterskategorie"],"not_rendered":{"charts":0,"images":1,"macros":1,"external_links":0,"defined_names":2,"comments":2,"pivot_tables":0},"unopened":[],"bounds":{"document_bytes":16777216,"sheet_cells":100000,"rows_first":2000,"rows_last":500,"rows_between":2000,"halvings":0,"cell_chars":16384,"cell_head_chars":4096},"cells_cut":0,"cells_raw":0,"read":"whole","date_system":"1900"}

{"sheet":"deutsch","index":0,"n_rows":67,"n_cols":28,"rows_kept":67,"cut":false,"hidden":false,"merged":[[22,22,22,25],[18,8,18,10],[18,11,18,12],[19,8,19,10],[19,11,19,12],[20,8,20,10],[20,11,20,12],[15,0,15,1],[13,2,13,4],[9,2,9,4],[15,8,15,10],[15,11,15,12],[9,8,9,12],[9,0,9,1],[10,0,10,1],[6,8,6,12],[5,0,5,12],[6,3,6,4],[7,2,7,4],[8,2,8,4],[7,8,7,12],[8,8,8,12],[65,4,65,8],[66,4,66,8],[10,8,10,12],[11,8,11,12],[12,8,12,12],[13,8,13,12],[10,2,10,4],[11,2,11,4],[12,2,12,4],[16,8,16,10],[16,11,16,12],[17,8,17,10],[17,11,17,12]]}
[null,null,"SCHWEIZER SCHIESSSPORTVERBAND",null,null,null,null,null,null,"Rolf Binz"]
[null,null,"FÉDÉRATION SPORTIVE SUISSE DE TIR",null,null,null,null,null,null,"Huntelweg 8"]
[null,null,"FEDERAZIONE SPORTIVA SVIZZERA DI TIRO",null,null,null,null,null,null,"4586 Buchegg"]
[null,null,null,null,null,null,null,null,null,"032 661 17 09"]
[null,null,"V2023_11",null,null,null,null,null,null,"binz-wirth@gawnet.ch"]
["__________________________________________________________________________________________________"]
["Vereinswettschiessen",null,null,2024,null,null,null,null,"Gewehr 50 Meter"]
["Verein:",null,"Vereinsname:",null,null,null,null,null,"Sportschützen XY"]
[null,null,"Vereinsnummer:",null,null,null,null,null,"1.02.XXXX"]
["Korrespondenz Adresse:",null,"Name, Vorname:",null,null,null,null,null,"Mustermann, Max"]
[null,null,"Strasse:",null,null,null,null,null,"Musterstrasse"]
[null,null,"PLZ, Ort:",null,null,null,null,null,"8000 Zürich"]
[null,null,"Tel:",null,null,null,null,null,"XXX XXX XX XX"]
[null,null,"E-Mail:",null,null,null,null,null,"muster@bluemail.ch"]
[]
["Lizenzierte Mitglieder:",null,null,null,null,null,null,null,"Vereinsresultat",null,null,{"$f":"ROUND((J66+K67)/D17,3)","v":0}]
["Pflichtresultate :",null,null,{"$f":"IF(D16<10,6,ROUND(0.7*D16,0))","v":6}]
["Teilnehmer:",null,"E / S",{"$f":"COUNTIF($P$24:$P$65,\"E\")+COUNTIF($P$24:$P$65,\"S\")","v":0},null,null,null,null,"Kranzkarten",null,null,{"$f":"COUNT(M24:M65)","v":0}]
[null,null,"U10-U21",{"$f":"COUNTIF($P$24:$P$65,\"U10\")+COUNTIF($P$24:$P$65,\"U15\")+COUNTIF($P$24:$P$65,\"U17\")++COUNTIF($P$24:$P$65,\"U19\")++COUNTIF($P$24:$P$65,\"U21\")","v":0},null,null,null,null,"Sportschützenkarten",null,null,{"$f":"COUNT(L24:L65)","v":0}]
[null,null,"V / SV",{"$f":"COUNTIF($P$24:$P$65,\"V\")+COUNTIF($P$24:$P$65,\"SV\")","v":0},null,null,null,null,"Total Teilnehmer",null,null,{"$f":"COUNTIF(H24:H65,\">0\")","v":0}]
[null,null,null,null,null,null,null,null,"Beteiligung",null,null,{"$f":"L20/D16","v":{"$error":"#DIV/0!"}}]
[]
["Nr.","Name","Vorname","Jg.","Stlg.","P1","P2","Total","Alters-stufe","Pflicht-\nResultat","Streich-\nResultat","SPS-\nKarte","Kranz-\nKarte",null,"Alter","Alterskat.","Rang1","AnzGleich","Rang Kor.",null,"Kranz-SOLL",null,"Auszeichnungslimiten",null,null,null,null,"Stellg."]
[1,null,null,null,null,null,null,{"$f":"IF(F24>0,F24+G24,0)","v":0},{"$f":"IF(ISBLANK(O24),\"\",P24)","v":""},{"$f":"IF(S24<=$D$17,H24,\"\")","v":0},{"$f":"IF(ISBLANK(H24),\"\",IF(S24>D$17,H24,\"\"))","v":""},{"$f":"M24","v":""},{"$f":"IF(H24=\"\",\"\",IF(H24>=U24,1,\"\"))","v":""},null,{"$f":"IF(ISBLANK(D24),\"\",$D$7-D24)","v":""},{"$f":"IF(O24<>\"\",(LOOKUP(O24,Alterskategorie!$A$2:$A$111,Alterskategorie!$B$2:$B$111)),\"\")","v":""},{"$f":"IF(ISBLANK(H24),\"\",RANK(H24,H$24:H$65,0))","v":1},{"$f":"IF(ISBLANK(H24),\"\",COUNTIF(Q$24:Q24,Q24)-1)","v":0},{"$f":"IF(ISBLANK(H24),\"\",Q24+R24)","v":1},null,{"$f":"IF(D24<\"\",VLOOKUP(I24,$W$25:$Z$34,MATCH(E24,$W$24:$Z$24,)),\"\")","v":""},null,null,"LG-F","LG-A","XX",null,"LG-F"]
[{"$f":"IF(B25>\"\",A24+1,\"\")","v":""},null,null,null,null,null,null,0,"",0,"",{"$f":"M25","v":""},{"$f":"IF(H25=\"\",\"\",IF(H25>=U25,1,\"\"))","v":""},null,"",{"$f":"IF(O25<>\"\",(LOOKUP(O25,Alterskategorie!$A$2:$A$111,Alterskategorie!$B$2:$B$111)),\"\")","v":""},1,{"$f":"IF(ISBLANK(H25),\"\",COUNTIF(Q$24:Q25,Q25)-1)","v":1},2,null,{"$f":"IF(D25<\"\",VLOOKUP(I25,$W$25:$Z$34,MATCH(E25,$W$24:$Z$24,)),\"\")","v":""},null,"E",180,"ung.","ung.",null,"LG-A"]
[{"$f":"IF(B26>\"\",A25+1,\"\")","v":""},null,null,null,null,null,null,0,"",0,"","","",null,"",{"$f":"IF(O26<>\"\",(LOOKUP(O26,Alterskategorie!$A$2:$A$111,Alterskategorie!$B$2:$B$111)),\"\")","v":""},1,{"$f":"IF(ISBLANK(H26),\"\",COUNTIF(Q$24:Q26,Q26)-1)","v":2},3,null,"",null,"S",180,"ung.","ung.",null,"XX"]
["",null,null,null,null,null,null,0,"",0,"","","",null,"",{"$f":"IF(O27<>\"\",(LOOKUP(O27,Alterskategorie!$A$2:$A$111,Alterskategorie!$B$2:$B$111)),\"\")","v":""},1,{"$f":"IF(ISBLANK(H27),\"\",COUNTIF(Q$24:Q27,Q27)-1)","v":3},4,null,"",null,"SV",172,176,"ung.",null,"XX"]
["",null,null,null,null,null,null,0,"",0,"","","",null,"",{"$f":"IF(O28<>\"\",(LOOKUP(O28,Alterskategorie!$A$2:$A$111,Alterskategorie!$B$2:$B$111)),\"\")","v":""},1,{"$f":"IF(ISBLANK(H28),\"\",COUNTIF(Q$24:Q28,Q28)-1)","v":4},5,null,"",null,"U13",172,176,"ung."]
["",null,null,null,null,null,null,0,"",0,"","","",null,"",{"$f":"IF(O29<>\"\",(LOOKUP(O29,Alterskategorie!$A$2:$A$111,Alterskategorie!$B$2:$B$111)),\"\")","v":""},1,{"$f":"IF(ISBLANK(H29),\"\",COUNTIF(Q$24:Q29,Q29)-1)","v":5},6,null,"",null,"U15",172,176,"ung."]
["",null,null,null,null,null,null,0,"","",0,"","",null,"",{"$f":"IF(O30<>\"\",(LOOKUP(O30,Alterskategorie!$A$2:$A$111,Alterskategorie!$B$2:$B$111)),\"\")","v":""},1,{"$f":"IF(ISBLANK(H30),\"\",COUNTIF(Q$24:Q30,Q30)-1)","v":6},7,null,"",null,"U17",172,"ung.","ung."]
["",null,null,null,null,null,null,0,"","",0,"","",null,"",{"$f":"IF(O31<>\"\",(LOOKUP(O31,Alterskategorie!$A$2:$A$111,Alterskategorie!$B$2:$B$111)),\"\")","v":""},1,{"$f":"IF(ISBLANK(H31),\"\",COUNTIF(Q$24:Q31,Q31)-1)","v":7},8,null,"",null,"U19",176,"ung.","ung."]
["",null,null,null,null,null,null,0,"","",0,"","",null,"",{"$f":"IF(O32<>\"\",(LOOKUP(O32,Alterskategorie!$A$2:$A$111,Alterskategorie!$B$2:$B$111)),\"\")","v":""},1,{"$f":"IF(ISBLANK(H32),\"\",COUNTIF(Q$24:Q32,Q32)-1)","v":8},9,null,"",null,"U21",176,"ung.","ung."]
["",null,null,null,null,null,null,0,"","",0,"","",null,"",{"$f":"IF(O33<>\"\",(LOOKUP(O33,Alterskategorie!$A$2:$A$111,Alterskategorie!$B$2:$B$111)),\"\")","v":""},1,{"$f":"IF(ISBLANK(H33),\"\",COUNTIF(Q$24:Q33,Q33)-1)","v":9},10,null,"",null,"V",176,"ung.","ung."]
["",null,null,null,null,null,null,0,"","",0,"","",null,"",{"$f":"IF(O34<>\"\",(LOOKUP(O34,Alterskategorie!$A$2:$A$111,Alterskategorie!$B$2:$B$111)),\"\")","v":""},1,{"$f":"IF(ISBLANK(H34),\"\",COUNTIF(Q$24:Q34,Q34)-1)","v":10},11,null,"",null,"xx","ung.","ung.","ung."]
["",null,null,null,null,null,null,0,"","",0,"","",null,"",{"$f":"IF(O35<>\"\",(LOOKUP(O35,Alterskategorie!$A$2:$A$111,Alterskategorie!$B$2:$B$111)),\"\")","v":""},1,{"$f":"IF(ISBLANK(H35),\"\",COUNTIF(Q$24:Q35,Q35)-1)","v":11},12,null,""]
["",null,null,null,null,null,null,0,"","",0,"","",null,"",{"$f":"IF(O36<>\"\",(LOOKUP(O36,Alterskategorie!$A$2:$A$111,Alterskategorie!$B$2:$B$111)),\"\")","v":""},1,{"$f":"IF(ISBLANK(H36),\"\",COUNTIF(Q$24:Q36,Q36)-1)","v":12},13,null,""]
["",null,null,null,null,null,null,0,"","",0,"","",null,"",{"$f":"IF(O37<>\"\",(LOOKUP(O37,Alterskategorie!$A$2:$A$111,Alterskategorie!$B$2:$B$111)),\"\")","v":""},1,{"$f":"IF(ISBLANK(H37),\"\",COUNTIF(Q$24:Q37,Q37)-1)","v":13},14,null,""]
["",null,null,null,null,null,null,0,"","",0,"","",null,"",{"$f":"IF(O38<>\"\",(LOOKUP(O38,Alterskategorie!$A$2:$A$111,Alterskategorie!$B$2:$B$111)),\"\")","v":""},1,{"$f":"IF(ISBLANK(H38),\"\",COUNTIF(Q$24:Q38,Q38)-1)","v":14},15,null,""]
["",null,null,null,null,null,null,0,"","",0,"","",null,"",{"$f":"IF(O39<>\"\",(LOOKUP(O39,Alterskategorie!$A$2:$A$111,Alterskategorie!$B$2:$B$111)),\"\")","v":""},1,{"$f":"IF(ISBLANK(H39),\"\",COUNTIF(Q$24:Q39,Q39)-1)","v":15},16,null,""]
["",null,null,null,null,null,null,0,"","",0,"","",null,"",{"$f":"IF(O40<>\"\",(LOOKUP(O40,Alterskategorie!$A$2:$A$111,Alterskategorie!$B$2:$B$111)),\"\")","v":""},1,{"$f":"IF(ISBLANK(H40),\"\",COUNTIF(Q$24:Q40,Q40)-1)","v":16},17,null,""]
["",null,null,null,null,null,null,0,"","",0,"","",null,"",{"$f":"IF(O41<>\"\",(LOOKUP(O41,Alterskategorie!$A$2:$A$111,Alterskategorie!$B$2:$B$111)),\"\")","v":""},1,{"$f":"IF(ISBLANK(H41),\"\",COUNTIF(Q$24:Q41,Q41)-1)","v":17},18,null,""]
["",null,null,null,null,null,null,0,"","",0,"","",null,"",{"$f":"IF(O42<>\"\",(LOOKUP(O42,Alterskategorie!$A$2:$A$111,Alterskategorie!$B$2:$B$111)),\"\")","v":""},1,{"$f":"IF(ISBLANK(H42),\"\",COUNTIF(Q$24:Q42,Q42)-1)","v":18},19,null,""]
["",null,null,null,null,null,null,0,"","",0,"","",null,"",{"$f":"IF(O43<>\"\",(LOOKUP(O43,Alterskategorie!$A$2:$A$111,Alterskategorie!$B$2:$B$111)),\"\")","v":""},1,{"$f":"IF(ISBLANK(H43),\"\",COUNTIF(Q$24:Q43,Q43)-1)","v":19},20,null,""]
["",null,null,null,null,null,null,0,"","",0,"","",null,"",{"$f":"IF(O44<>\"\",(LOOKUP(O44,Alterskategorie!$A$2:$A$111,Alterskategorie!$B$2:$B$111)),\"\")","v":""},1,{"$f":"IF(ISBLANK(H44),\"\",COUNTIF(Q$24:Q44,Q44)-1)","v":20},21,null,""]
[{"$f":"IF(B45>\"\",A44+1,\"\")","v":""},null,null,null,null,null,null,0,{"$f":"IF(ISBLANK(O45),\"\",P45)","v":""},{"$f":"IF(S45<=$D$17,H45,\"\")","v":""},{"$f":"IF(ISBLANK(H45),\"\",IF(S45>D$17,H45,\"\"))","v":0},{"$f":"M45","v":""},{"$f":"IF(H45=\"\",\"\",IF(H45>=U45,1,\"\"))","v":""},null,{"$f":"IF(ISBLANK(D45),\"\",$D$7-D45)","v":""},{"$f":"IF(O45<>\"\",(LOOKUP(O45,Alterskategorie!$A$2:$A$111,Alterskategorie!$B$2:$B$111)),\"\")","v":""},{"$f":"IF(ISBLANK(H45),\"\",RANK(H45,H$24:H$65,0))","v":1},{"$f":"IF(ISBLANK(H45),\"\",COUNTIF(Q$24:Q45,Q45)-1)","v":21},{"$f":"IF(ISBLANK(H45),\"\",Q45+R45)","v":22},null,""]
["",null,null,null,null,null,null,0,"","",0,"","",null,"",{"$f":"IF(O46<>\"\",(LOOKUP(O46,Alterskategorie!$A$2:$A$111,Alterskategorie!$B$2:$B$111)),\"\")","v":""},1,{"$f":"IF(ISBLANK(H46),\"\",COUNTIF(Q$24:Q46,Q46)-1)","v":22},23,null,""]
["",null,null,null,null,null,null,0,"","",0,"","",null,"",{"$f":"IF(O47<>\"\",(LOOKUP(O47,Alterskategorie!$A$2:$A$111,Alterskategorie!$B$2:$B$111)),\"\")","v":""},1,{"$f":"IF(ISBLANK(H47),\"\",COUNTIF(Q$24:Q47,Q47)-1)","v":23},24,null,""]
["",null,null,null,null,null,null,0,"","",0,"","",null,"",{"$f":"IF(O48<>\"\",(LOOKUP(O48,Alterskategorie!$A$2:$A$111,Alterskategorie!$B$2:$B$111)),\"\")","v":""},1,{"$f":"IF(ISBLANK(H48),\"\",COUNTIF(Q$24:Q48,Q48)-1)","v":24},25,null,""]
["",null,null,null,null,null,null,0,"","",0,"","",null,"",{"$f":"IF(O49<>\"\",(LOOKUP(O49,Alterskategorie!$A$2:$A$111,Alterskategorie!$B$2:$B$111)),\"\")","v":""},1,{"$f":"IF(ISBLANK(H49),\"\",COUNTIF(Q$24:Q49,Q49)-1)","v":25},26,null,""]
["",null,null,null,null,null,null,0,"","",0,"","",null,"",{"$f":"IF(O50<>\"\",(LOOKUP(O50,Alterskategorie!$A$2:$A$111,Alterskategorie!$B$2:$B$111)),\"\")","v":""},1,{"$f":"IF(ISBLANK(H50),\"\",COUNTIF(Q$24:Q50,Q50)-1)","v":26},27,null,""]
["",null,null,null,null,null,null,0,"","",0,"","",null,"",{"$f":"IF(O51<>\"\",(LOOKUP(O51,Alterskategorie!$A$2:$A$111,Alterskategorie!$B$2:$B$111)),\"\")","v":""},1,{"$f":"IF(ISBLANK(H51),\"\",COUNTIF(Q$24:Q51,Q51)-1)","v":27},28,null,""]
["",null,null,null,null,null,null,0,"","",0,"","",null,"",{"$f":"IF(O52<>\"\",(LOOKUP(O52,Alterskategorie!$A$2:$A$111,Alterskategorie!$B$2:$B$111)),\"\")","v":""},1,{"$f":"IF(ISBLANK(H52),\"\",COUNTIF(Q$24:Q52,Q52)-1)","v":28},29,null,""]
["",null,null,null,null,null,null,0,"","",0,"","",null,"",{"$f":"IF(O53<>\"\",(LOOKUP(O53,Alterskategorie!$A$2:$A$111,Alterskategorie!$B$2:$B$111)),\"\")","v":""},1,{"$f":"IF(ISBLANK(H53),\"\",COUNTIF(Q$24:Q53,Q53)-1)","v":29},30,null,""]
["",null,null,null,null,null,null,0,"","",0,"","",null,"",{"$f":"IF(O54<>\"\",(LOOKUP(O54,Alterskategorie!$A$2:$A$111,Alterskategorie!$B$2:$B$111)),\"\")","v":""},1,{"$f":"IF(ISBLANK(H54),\"\",COUNTIF(Q$24:Q54,Q54)-1)","v":30},31,null,""]
["",null,null,null,null,null,null,0,"","",0,"","",null,"",{"$f":"IF(O55<>\"\",(LOOKUP(O55,Alterskategorie!$A$2:$A$111,Alterskategorie!$B$2:$B$111)),\"\")","v":""},1,{"$f":"IF(ISBLANK(H55),\"\",COUNTIF(Q$24:Q55,Q55)-1)","v":31},32,null,""]
["",null,null,null,null,null,null,0,"","",0,"","",null,"",{"$f":"IF(O56<>\"\",(LOOKUP(O56,Alterskategorie!$A$2:$A$111,Alterskategorie!$B$2:$B$111)),\"\")","v":""},1,{"$f":"IF(ISBLANK(H56),\"\",COUNTIF(Q$24:Q56,Q56)-1)","v":32},33,null,""]
["",null,null,null,null,null,null,0,"","",0,"","",null,"",{"$f":"IF(O57<>\"\",(LOOKUP(O57,Alterskategorie!$A$2:$A$111,Alterskategorie!$B$2:$B$111)),\"\")","v":""},1,{"$f":"IF(ISBLANK(H57),\"\",COUNTIF(Q$24:Q57,Q57)-1)","v":33},34,null,""]
["",null,null,null,null,null,null,0,{"$f":"IF(ISBLANK(O58),\"\",P58)","v":""},{"$f":"IF(S58<=$D$17,H58,\"\")","v":""},{"$f":"IF(ISBLANK(H58),\"\",IF(S58>D$17,H58,\"\"))","v":0},{"$f":"M58","v":""},{"$f":"IF(H58=\"\",\"\",IF(H58>=U58,1,\"\"))","v":""},null,{"$f":"IF(ISBLANK(D58),\"\",$D$7-D58)","v":""},{"$f":"IF(O58<>\"\",(LOOKUP(O58,Alterskategorie!$A$2:$A$111,Alterskategorie!$B$2:$B$111)),\"\")","v":""},{"$f":"IF(ISBLANK(H58),\"\",RANK(H58,H$24:H$65,0))","v":1},{"$f":"IF(ISBLANK(H58),\"\",COUNTIF(Q$24:Q58,Q58)-1)","v":34},{"$f":"IF(ISBLANK(H58),\"\",Q58+R58)","v":35},null,""]
["",null,null,null,null,null,null,0,"","",0,"","",null,"",{"$f":"IF(O59<>\"\",(LOOKUP(O59,Alterskategorie!$A$2:$A$111,Alterskategorie!$B$2:$B$111)),\"\")","v":""},1,{"$f":"IF(ISBLANK(H59),\"\",COUNTIF(Q$24:Q59,Q59)-1)","v":35},36,null,""]
["",null,null,null,null,null,null,0,"","",0,"","",null,"",{"$f":"IF(O60<>\"\",(LOOKUP(O60,Alterskategorie!$A$2:$A$111,Alterskategorie!$B$2:$B$111)),\"\")","v":""},1,{"$f":"IF(ISBLANK(H60),\"\",COUNTIF(Q$24:Q60,Q60)-1)","v":36},37,null,""]
["",null,null,null,null,null,null,0,"","",0,"","",null,"",{"$f":"IF(O61<>\"\",(LOOKUP(O61,Alterskategorie!$A$2:$A$111,Alterskategorie!$B$2:$B$111)),\"\")","v":""},1,{"$f":"IF(ISBLANK(H61),\"\",COUNTIF(Q$24:Q61,Q61)-1)","v":37},38,null,""]
["",null,null,null,null,null,null,0,"","",0,"","",null,"",{"$f":"IF(O62<>\"\",(LOOKUP(O62,Alterskategorie!$A$2:$A$111,Alterskategorie!$B$2:$B$111)),\"\")","v":""},1,{"$f":"IF(ISBLANK(H62),\"\",COUNTIF(Q$24:Q62,Q62)-1)","v":38},39,null,""]
["",null,null,null,null,null,null,0,"","",0,"","",null,"",{"$f":"IF(O63<>\"\",(LOOKUP(O63,Alterskategorie!$A$2:$A$111,Alterskategorie!$B$2:$B$111)),\"\")","v":""},1,{"$f":"IF(ISBLANK(H63),\"\",COUNTIF(Q$24:Q63,Q63)-1)","v":39},40,null,""]
["",null,null,null,null,null,null,0,"","",0,"","",null,"",{"$f":"IF(O64<>\"\",(LOOKUP(O64,Alterskategorie!$A$2:$A$111,Alterskategorie!$B$2:$B$111)),\"\")","v":""},1,{"$f":"IF(ISBLANK(H64),\"\",COUNTIF(Q$24:Q64,Q64)-1)","v":40},41,null,""]
["",null,null,null,null,null,null,0,"","",0,"","",null,"",{"$f":"IF(O65<>\"\",(LOOKUP(O65,Alterskategorie!$A$2:$A$111,Alterskategorie!$B$2:$B$111)),\"\")","v":""},1,{"$f":"IF(ISBLANK(H65),\"\",COUNTIF(Q$24:Q65,Q65)-1)","v":41},42,null,""]
[null,null,null,null,"Total Pflicht / Nichtpflicht",null,null,null,null,{"$f":"SUM(J24:J65)","v":0},{"$f":"SUM(K24:K65)","v":0}]
[null,null,null,null,"3% vom Streichresultat",null,null,null,null,null,{"$f":"ROUNDDOWN((K66*3%),2)","v":0}]

{"sheet":"français","index":1,"n_rows":67,"n_cols":28,"rows_kept":67,"cut":false,"hidden":false,"merged":[[66,4,66,8],[19,8,19,10],[19,11,19,12],[20,8,20,10],[20,11,20,12],[22,22,22,25],[65,4,65,8],[16,8,16,10],[16,11,16,12],[17,8,17,10],[17,11,17,12],[18,8,18,10],[18,11,18,12],[12,2,12,4],[12,8,12,12],[13,2,13,4],[13,8,13,12],[15,0,15,1],[15,8,15,10],[15,11,15,12],[11,2,11,4],[11,8,11,12],[5,0,5,12],[6,3,6,4],[6,8,6,12],[7,2,7,4],[7,8,7,12],[8,2,8,4],[8,8,8,12],[9,0,10,1],[9,2,9,4],[9,8,9,12],[10,2,10,4],[10,8,10,12]]}
[null,null,"SCHWEIZER SCHIESSSPORTVERBAND",null,null,null,null,null,null,"Rolf Binz"]
[null,null,"FÉDÉRATION SPORTIVE SUISSE DE TIR",null,null,null,null,null,null,"Huntelweg 8"]
[null,null,"FEDERAZIONE SPORTIVA SVIZZERA DI TIRO",null,null,null,null,null,null,"4586 Buchegg"]
[null,null,null,null,null,null,null,null,null,"032 661 17 09"]
[null,null,"V2023_11",null,null,null,null,null,null,"binz-wirth@gawnet.ch"]
["__________________________________________________________________________________________________"]
["Concours des sociétés",null,null,2024,null,null,null,null,"Carabine 50 mètres"]
["Société :",null,"Nom de la société :",null,null,null,null,null,"Tireurs sportifs XY"]
[null,null,"Numéro de la société :",null,null,null,null,null,"1.02.XXXX"]
["Adresse pour la correspondance :",null,"Nom, Prénom :",null,null,null,null,null,"Modèle, Max"]
[null,null,"Rue/Rte :",null,null,null,null,null,"Route des Exemples"]
[null,null,"NPA/Lieu :",null,null,null,null,null,"1200 Genève"]
[null,null,"Tél :",null,null,null,null,null,"XXX XXX XX XX"]
[null,null,"Email :",null,null,null,null,null,"modèle@bluemail.ch"]
[]
["Membres licenciés :",null,null,null,null,null,null,null,"Résultat de société",null,null,{"$f":"ROUND((J66+K67)/D17,3)","v":0}]
["Résultats obligatoires :",null,null,{"$f":"IF(D16<10,6,ROUND(0.7*D16,0))","v":6}]
["Participants :",null,"E / S",{"$f":"COUNTIF($P$24:$P$65,\"E\")+COUNTIF($P$24:$P$65,\"S\")","v":0},null,null,null,null,"Cartes-couronnes",null,null,{"$f":"COUNT(M24:M65)","v":0}]
[null,null,"U10-U21",{"$f":"COUNTIF($P$24:$P$65,\"U10\")+COUNTIF($P$24:$P$65,\"U15\")+COUNTIF($P$24:$P$65,\"U17\")++COUNTIF($P$24:$P$65,\"U19\")++COUNTIF($P$24:$P$65,\"U21\")","v":0},null,null,null,null,"Cartes de tireur sportif",null,null,{"$f":"COUNT(L24:L65)","v":0}]
[null,null,"V / SV",{"$f":"COUNTIF($P$24:$P$65,\"V\")+COUNTIF($P$24:$P$65,\"SV\")","v":0},null,null,null,null,"Nombre total de participants",null,null,{"$f":"COUNTIF(H24:H65,\">0\")","v":0}]
[null,null,null,null,null,null,null,null,"Participation",null,null,{"$f":"L20/D16","v":{"$error":"#DIV/0!"}}]
[]
["No","Nom","Prénom","Né en","Posi-tion","P1","P2","Total","Classe d'âge","Résultat obl.","Autre résultat","Carte TSp","Carte-cour.",null,"Alter","Alterskat.","Rang1","AnzGleich","Rang Kor.",null,"Kranz-SOLL",null,"Auszeichnungslimiten",null,null,null,null,"Stellg."]
[1,null,null,null,null,null,null,{"$f":"IF(F24>0,F24+G24,0)","v":0},{"$f":"IF(ISBLANK(O24),\"\",P24)","v":""},{"$f":"IF(S24<=$D$17,H24,\"\")","v":0},{"$f":"IF(ISBLANK(H24),\"\",IF(S24>D$17,H24,\"\"))","v":""},{"$f":"M24","v":""},{"$f":"IF(H24=\"\",\"\",IF(H24>=U24,1,\"\"))","v":""},null,{"$f":"IF(ISBLANK(D24),\"\",$D$7-D24)","v":""},{"$f":"IF(O24<>\"\",(LOOKUP(O24,Alterskategorie!$A$2:$A$111,Alterskategorie!$B$2:$B$111)),\"\")","v":""},{"$f":"IF(ISBLANK(H24),\"\",RANK(H24,H$24:H$65,0))","v":1},{"$f":"IF(ISBLANK(H24),\"\",COUNTIF(Q$24:Q24,Q24)-1)","v":0},{"$f":"IF(ISBLANK(H24),\"\",Q24+R24)","v":1},null,{"$f":"IF(D24<\"\",VLOOKUP(I24,$W$25:$Z$34,MATCH(E24,$W$24:$Z$24,)),\"\")","v":""},null,null,"LG-F","LG-A","XX",null,"LG-F"]
[{"$f":"IF(B25>\"\",A24+1,\"\")","v":""},null,null,null,null,null,null,0,"",0,"",{"$f":"M25","v":""},{"$f":"IF(H25=\"\",\"\",IF(H25>=U25,1,\"\"))","v":""},null,"",{"$f":"IF(O25<>\"\",(LOOKUP(O25,Alterskategorie!$A$2:$A$111,Alterskategorie!$B$2:$B$111)),\"\")","v":""},1,{"$f":"IF(ISBLANK(H25),\"\",COUNTIF(Q$24:Q25,Q25)-1)","v":1},2,null,{"$f":"IF(D25<\"\",VLOOKUP(I25,$W$25:$Z$34,MATCH(E25,$W$24:$Z$24,)),\"\")","v":""},null,"E",180,"ung.","ung.",null,"LG-A"]
[{"$f":"IF(B26>\"\",A25+1,\"\")","v":""},null,null,null,null,null,null,0,"",0,"","","",null,"",{"$f":"IF(O26<>\"\",(LOOKUP(O26,Alterskategorie!$A$2:$A$111,Alterskategorie!$B$2:$B$111)),\"\")","v":""},1,{"$f":"IF(ISBLANK(H26),\"\",COUNTIF(Q$24:Q26,Q26)-1)","v":2},3,null,"",null,"S",180,"ung.","ung.",null,"XX"]
["",null,null,null,null,null,null,0,"",0,"","","",null,"",{"$f":"IF(O27<>\"\",(LOOKUP(O27,Alterskategorie!$A$2:$A$111,Alterskategorie!$B$2:$B$111)),\"\")","v":""},1,{"$f":"IF(ISBLANK(H27),\"\",COUNTIF(Q$24:Q27,Q27)-1)","v":3},4,null,"",null,"SV",172,176,"ung.",null,"XX"]
["",null,null,null,null,null,null,0,"",0,"","","",null,"",{"$f":"IF(O28<>\"\",(LOOKUP(O28,Alterskategorie!$A$2:$A$111,Alterskategorie!$B$2:$B$111)),\"\")","v":""},1,{"$f":"IF(ISBLANK(H28),\"\",COUNTIF(Q$24:Q28,Q28)-1)","v":4},5,null,"",null,"U13",172,176,"ung."]
["",null,null,null,null,null,null,0,"",0,"","","",null,"",{"$f":"IF(O29<>\"\",(LOOKUP(O29,Alterskategorie!$A$2:$A$111,Alterskategorie!$B$2:$B$111)),\"\")","v":""},1,{"$f":"IF(ISBLANK(H29),\"\",COUNTIF(Q$24:Q29,Q29)-1)","v":5},6,null,"",null,"U15",172,176,"ung."]
["",null,null,null,null,null,null,0,"","",0,"","",null,"",{"$f":"IF(O30<>\"\",(LOOKUP(O30,Alterskategorie!$A$2:$A$111,Alterskategorie!$B$2:$B$111)),\"\")","v":""},1,{"$f":"IF(ISBLANK(H30),\"\",COUNTIF(Q$24:Q30,Q30)-1)","v":6},7,null,"",null,"U17",172,"ung.","ung."]
["",null,null,null,null,null,null,0,"","",0,"","",null,"",{"$f":"IF(O31<>\"\",(LOOKUP(O31,Alterskategorie!$A$2:$A$111,Alterskategorie!$B$2:$B$111)),\"\")","v":""},1,{"$f":"IF(ISBLANK(H31),\"\",COUNTIF(Q$24:Q31,Q31)-1)","v":7},8,null,"",null,"U19",176,"ung.","ung."]
["",null,null,null,null,null,null,0,"","",0,"","",null,"",{"$f":"IF(O32<>\"\",(LOOKUP(O32,Alterskategorie!$A$2:$A$111,Alterskategorie!$B$2:$B$111)),\"\")","v":""},1,{"$f":"IF(ISBLANK(H32),\"\",COUNTIF(Q$24:Q32,Q32)-1)","v":8},9,null,"",null,"U21",176,"ung.","ung."]
["",null,null,null,null,null,null,0,"","",0,"","",null,"",{"$f":"IF(O33<>\"\",(LOOKUP(O33,Alterskategorie!$A$2:$A$111,Alterskategorie!$B$2:$B$111)),\"\")","v":""},1,{"$f":"IF(ISBLANK(H33),\"\",COUNTIF(Q$24:Q33,Q33)-1)","v":9},10,null,"",null,"V",176,"ung.","ung."]
["",null,null,null,null,null,null,0,"","",0,"","",null,"",{"$f":"IF(O34<>\"\",(LOOKUP(O34,Alterskategorie!$A$2:$A$111,Alterskategorie!$B$2:$B$111)),\"\")","v":""},1,{"$f":"IF(ISBLANK(H34),\"\",COUNTIF(Q$24:Q34,Q34)-1)","v":10},11,null,"",null,"xx","ung.","ung.","ung."]
["",null,null,null,null,null,null,0,"","",0,"","",null,"",{"$f":"IF(O35<>\"\",(LOOKUP(O35,Alterskategorie!$A$2:$A$111,Alterskategorie!$B$2:$B$111)),\"\")","v":""},1,{"$f":"IF(ISBLANK(H35),\"\",COUNTIF(Q$24:Q35,Q35)-1)","v":11},12,null,""]
["",null,null,null,null,null,null,0,"","",0,"","",null,"",{"$f":"IF(O36<>\"\",(LOOKUP(O36,Alterskategorie!$A$2:$A$111,Alterskategorie!$B$2:$B$111)),\"\")","v":""},1,{"$f":"IF(ISBLANK(H36),\"\",COUNTIF(Q$24:Q36,Q36)-1)","v":12},13,null,""]
["",null,null,null,null,null,null,0,"","",0,"","",null,"",{"$f":"IF(O37<>\"\",(LOOKUP(O37,Alterskategorie!$A$2:$A$111,Alterskategorie!$B$2:$B$111)),\"\")","v":""},1,{"$f":"IF(ISBLANK(H37),\"\",COUNTIF(Q$24:Q37,Q37)-1)","v":13},14,null,""]
["",null,null,null,null,null,null,0,"","",0,"","",null,"",{"$f":"IF(O38<>\"\",(LOOKUP(O38,Alterskategorie!$A$2:$A$111,Alterskategorie!$B$2:$B$111)),\"\")","v":""},1,{"$f":"IF(ISBLANK(H38),\"\",COUNTIF(Q$24:Q38,Q38)-1)","v":14},15,null,""]
["",null,null,null,null,null,null,0,"","",0,"","",null,"",{"$f":"IF(O39<>\"\",(LOOKUP(O39,Alterskategorie!$A$2:$A$111,Alterskategorie!$B$2:$B$111)),\"\")","v":""},1,{"$f":"IF(ISBLANK(H39),\"\",COUNTIF(Q$24:Q39,Q39)-1)","v":15},16,null,""]
["",null,null,null,null,null,null,0,"","",0,"","",null,"",{"$f":"IF(O40<>\"\",(LOOKUP(O40,Alterskategorie!$A$2:$A$111,Alterskategorie!$B$2:$B$111)),\"\")","v":""},1,{"$f":"IF(ISBLANK(H40),\"\",COUNTIF(Q$24:Q40,Q40)-1)","v":16},17,null,""]
["",null,null,null,null,null,null,0,"","",0,"","",null,"",{"$f":"IF(O41<>\"\",(LOOKUP(O41,Alterskategorie!$A$2:$A$111,Alterskategorie!$B$2:$B$111)),\"\")","v":""},1,{"$f":"IF(ISBLANK(H41),\"\",COUNTIF(Q$24:Q41,Q41)-1)","v":17},18,null,""]
["",null,null,null,null,null,null,0,"","",0,"","",null,"",{"$f":"IF(O42<>\"\",(LOOKUP(O42,Alterskategorie!$A$2:$A$111,Alterskategorie!$B$2:$B$111)),\"\")","v":""},1,{"$f":"IF(ISBLANK(H42),\"\",COUNTIF(Q$24:Q42,Q42)-1)","v":18},19,null,""]
["",null,null,null,null,null,null,0,"","",0,"","",null,"",{"$f":"IF(O43<>\"\",(LOOKUP(O43,Alterskategorie!$A$2:$A$111,Alterskategorie!$B$2:$B$111)),\"\")","v":""},1,{"$f":"IF(ISBLANK(H43),\"\",COUNTIF(Q$24:Q43,Q43)-1)","v":19},20,null,""]
["",null,null,null,null,null,null,0,"","",0,"","",null,"",{"$f":"IF(O44<>\"\",(LOOKUP(O44,Alterskategorie!$A$2:$A$111,Alterskategorie!$B$2:$B$111)),\"\")","v":""},1,{"$f":"IF(ISBLANK(H44),\"\",COUNTIF(Q$24:Q44,Q44)-1)","v":20},21,null,""]
["",null,null,null,null,null,null,0,"","",0,"","",null,"",{"$f":"IF(O45<>\"\",(LOOKUP(O45,Alterskategorie!$A$2:$A$111,Alterskategorie!$B$2:$B$111)),\"\")","v":""},1,{"$f":"IF(ISBLANK(H45),\"\",COUNTIF(Q$24:Q45,Q45)-1)","v":21},22,null,""]
["",null,null,null,null,null,null,0,"","",0,"","",null,"",{"$f":"IF(O46<>\"\",(LOOKUP(O46,Alterskategorie!$A$2:$A$111,Alterskategorie!$B$2:$B$111)),\"\")","v":""},1,{"$f":"IF(ISBLANK(H46),\"\",COUNTIF(Q$24:Q46,Q46)-1)","v":22},23,null,""]
["",null,null,null,null,null,null,0,"","",0,"","",null,"",{"$f":"IF(O47<>\"\",(LOOKUP(O47,Alterskategorie!$A$2:$A$111,Alterskategorie!$B$2:$B$111)),\"\")","v":""},1,{"$f":"IF(ISBLANK(H47),\"\",COUNTIF(Q$24:Q47,Q47)-1)","v":23},24,null,""]
["",null,null,null,null,null,null,0,"","",0,"","",null,"",{"$f":"IF(O48<>\"\",(LOOKUP(O48,Alterskategorie!$A$2:$A$111,Alterskategorie!$B$2:$B$111)),\"\")","v":""},1,{"$f":"IF(ISBLANK(H48),\"\",COUNTIF(Q$24:Q48,Q48)-1)","v":24},25,null,""]
["",null,null,null,null,null,null,0,"","",0,"","",null,"",{"$f":"IF(O49<>\"\",(LOOKUP(O49,Alterskategorie!$A$2:$A$111,Alterskategorie!$B$2:$B$111)),\"\")","v":""},1,{"$f":"IF(ISBLANK(H49),\"\",COUNTIF(Q$24:Q49,Q49)-1)","v":25},26,null,""]
["",null,null,null,null,null,null,0,"","",0,"","",null,"",{"$f":"IF(O50<>\"\",(LOOKUP(O50,Alterskategorie!$A$2:$A$111,Alterskategorie!$B$2:$B$111)),\"\")","v":""},1,{"$f":"IF(ISBLANK(H50),\"\",COUNTIF(Q$24:Q50,Q50)-1)","v":26},27,null,""]
["",null,null,null,null,null,null,0,"","",0,"","",null,"",{"$f":"IF(O51<>\"\",(LOOKUP(O51,Alterskategorie!$A$2:$A$111,Alterskategorie!$B$2:$B$111)),\"\")","v":""},1,{"$f":"IF(ISBLANK(H51),\"\",COUNTIF(Q$24:Q51,Q51)-1)","v":27},28,null,""]
["",null,null,null,null,null,null,0,"","",0,"","",null,"",{"$f":"IF(O52<>\"\",(LOOKUP(O52,Alterskategorie!$A$2:$A$111,Alterskategorie!$B$2:$B$111)),\"\")","v":""},1,{"$f":"IF(ISBLANK(H52),\"\",COUNTIF(Q$24:Q52,Q52)-1)","v":28},29,null,""]
["",null,null,null,null,null,null,0,"","",0,"","",null,"",{"$f":"IF(O53<>\"\",(LOOKUP(O53,Alterskategorie!$A$2:$A$111,Alterskategorie!$B$2:$B$111)),\"\")","v":""},1,{"$f":"IF(ISBLANK(H53),\"\",COUNTIF(Q$24:Q53,Q53)-1)","v":29},30,null,""]
["",null,null,null,null,null,null,0,"","",0,"","",null,"",{"$f":"IF(O54<>\"\",(LOOKUP(O54,Alterskategorie!$A$2:$A$111,Alterskategorie!$B$2:$B$111)),\"\")","v":""},1,{"$f":"IF(ISBLANK(H54),\"\",COUNTIF(Q$24:Q54,Q54)-1)","v":30},31,null,""]
["",null,null,null,null,null,null,0,"","",0,"","",null,"",{"$f":"IF(O55<>\"\",(LOOKUP(O55,Alterskategorie!$A$2:$A$111,Alterskategorie!$B$2:$B$111)),\"\")","v":""},1,{"$f":"IF(ISBLANK(H55),\"\",COUNTIF(Q$24:Q55,Q55)-1)","v":31},32,null,""]
["",null,null,null,null,null,null,0,"","",0,"","",null,"",{"$f":"IF(O56<>\"\",(LOOKUP(O56,Alterskategorie!$A$2:$A$111,Alterskategorie!$B$2:$B$111)),\"\")","v":""},1,{"$f":"IF(ISBLANK(H56),\"\",COUNTIF(Q$24:Q56,Q56)-1)","v":32},33,null,""]
["",null,null,null,null,null,null,0,"","",0,"","",null,"",{"$f":"IF(O57<>\"\",(LOOKUP(O57,Alterskategorie!$A$2:$A$111,Alterskategorie!$B$2:$B$111)),\"\")","v":""},1,{"$f":"IF(ISBLANK(H57),\"\",COUNTIF(Q$24:Q57,Q57)-1)","v":33},34,null,""]
["",null,null,null,null,null,null,0,{"$f":"IF(ISBLANK(O58),\"\",P58)","v":""},{"$f":"IF(S58<=$D$17,H58,\"\")","v":""},{"$f":"IF(ISBLANK(H58),\"\",IF(S58>D$17,H58,\"\"))","v":0},{"$f":"M58","v":""},{"$f":"IF(H58=\"\",\"\",IF(H58>=U58,1,\"\"))","v":""},null,{"$f":"IF(ISBLANK(D58),\"\",$D$7-D58)","v":""},{"$f":"IF(O58<>\"\",(LOOKUP(O58,Alterskategorie!$A$2:$A$111,Alterskategorie!$B$2:$B$111)),\"\")","v":""},{"$f":"IF(ISBLANK(H58),\"\",RANK(H58,H$24:H$65,0))","v":1},{"$f":"IF(ISBLANK(H58),\"\",COUNTIF(Q$24:Q58,Q58)-1)","v":34},{"$f":"IF(ISBLANK(H58),\"\",Q58+R58)","v":35},null,{"$f":"IF(D58<\"\",VLOOKUP(I58,$W$25:$Z$34,MATCH(E58,$W$24:$Z$24,)),\"\")","v":""}]
["",null,null,null,null,null,null,0,"","",0,"","",null,"",{"$f":"IF(O59<>\"\",(LOOKUP(O59,Alterskategorie!$A$2:$A$111,Alterskategorie!$B$2:$B$111)),\"\")","v":""},1,{"$f":"IF(ISBLANK(H59),\"\",COUNTIF(Q$24:Q59,Q59)-1)","v":35},36,null,""]
["",null,null,null,null,null,null,0,"","",0,"","",null,"",{"$f":"IF(O60<>\"\",(LOOKUP(O60,Alterskategorie!$A$2:$A$111,Alterskategorie!$B$2:$B$111)),\"\")","v":""},1,{"$f":"IF(ISBLANK(H60),\"\",COUNTIF(Q$24:Q60,Q60)-1)","v":36},37,null,""]
["",null,null,null,null,null,null,0,"","",0,"","",null,"",{"$f":"IF(O61<>\"\",(LOOKUP(O61,Alterskategorie!$A$2:$A$111,Alterskategorie!$B$2:$B$111)),\"\")","v":""},1,{"$f":"IF(ISBLANK(H61),\"\",COUNTIF(Q$24:Q61,Q61)-1)","v":37},38,null,""]
["",null,null,null,null,null,null,0,"","",0,"","",null,"",{"$f":"IF(O62<>\"\",(LOOKUP(O62,Alterskategorie!$A$2:$A$111,Alterskategorie!$B$2:$B$111)),\"\")","v":""},1,{"$f":"IF(ISBLANK(H62),\"\",COUNTIF(Q$24:Q62,Q62)-1)","v":38},39,null,""]
["",null,null,null,null,null,null,0,"","",0,"","",null,"",{"$f":"IF(O63<>\"\",(LOOKUP(O63,Alterskategorie!$A$2:$A$111,Alterskategorie!$B$2:$B$111)),\"\")","v":""},1,{"$f":"IF(ISBLANK(H63),\"\",COUNTIF(Q$24:Q63,Q63)-1)","v":39},40,null,""]
["",null,null,null,null,null,null,0,"","",0,"","",null,"",{"$f":"IF(O64<>\"\",(LOOKUP(O64,Alterskategorie!$A$2:$A$111,Alterskategorie!$B$2:$B$111)),\"\")","v":""},1,{"$f":"IF(ISBLANK(H64),\"\",COUNTIF(Q$24:Q64,Q64)-1)","v":40},41,null,""]
["",null,null,null,null,null,null,0,"","",0,"","",null,"",{"$f":"IF(O65<>\"\",(LOOKUP(O65,Alterskategorie!$A$2:$A$111,Alterskategorie!$B$2:$B$111)),\"\")","v":""},{"$f":"IF(ISBLANK(H65),\"\",RANK(H65,H$24:H$65,0))","v":1},{"$f":"IF(ISBLANK(H65),\"\",COUNTIF(Q$24:Q65,Q65)-1)","v":41},42,null,""]
[null,null,null,null,"Total obligatoires / non-oblig.",null,null,null,null,{"$f":"SUM(J24:J65)","v":0},{"$f":"SUM(K24:K65)","v":0}]
[null,null,null,null,"3% des autres résultats",null,null,null,null,null,{"$f":"ROUNDDOWN((K66*3%),2)","v":0}]

{"sheet":"Alterskategorie","index":2,"n_rows":111,"n_cols":2,"rows_kept":111,"cut":false,"hidden":true,"merged":[]}
["Alter","Kategorie"]
[1,"-"]
[2,"-"]
[3,"-"]
[4,"-"]
[5,"-"]
[6,"-"]
[7,"U10"]
[8,"U10"]
[9,"U10"]
[10,"U15"]
[11,"U15"]
[12,"U15"]
[13,"U15"]
[14,"U15"]
[15,"U17"]
[16,"U17"]
[17,"U19"]
[18,"U19"]
[19,"U21"]
[20,"U21"]
[21,"E"]
[22,"E"]
[23,"E"]
[24,"E"]
[25,"E"]
[26,"E"]
[27,"E"]
[28,"E"]
[29,"E"]
[30,"E"]
[31,"E"]
[32,"E"]
[33,"E"]
[34,"E"]
[35,"E"]
[36,"E"]
[37,"E"]
[38,"E"]
[39,"E"]
[40,"E"]
[41,"E"]
[42,"E"]
[43,"E"]
[44,"E"]
[45,"E"]
[46,"S"]
[47,"S"]
[48,"S"]
[49,"S"]
[50,"S"]
[51,"S"]
[52,"S"]
[53,"S"]
[54,"S"]
[55,"S"]
[56,"S"]
[57,"S"]
[58,"S"]
[59,"S"]
[60,"V"]
[61,"V"]
[62,"V"]
[63,"V"]
[64,"V"]
[65,"V"]
[66,"V"]
[67,"V"]
[68,"V"]
[69,"V"]
[70,"SV"]
[71,"SV"]
[72,"SV"]
[73,"SV"]
[74,"SV"]
[75,"SV"]
[76,"SV"]
[77,"SV"]
[78,"SV"]
[79,"SV"]
[80,"SV"]
[81,"SV"]
[82,"SV"]
[83,"SV"]
[84,"SV"]
[85,"SV"]
[86,"SV"]
[87,"SV"]
[88,"SV"]
[89,"SV"]
[90,"SV"]
[91,"SV"]
[92,"SV"]
[93,"SV"]
[94,"SV"]
[95,"SV"]
[96,"SV"]
[97,"SV"]
[98,"SV"]
[99,"SV"]
[100,"SV"]
[101,"SV"]
[102,"SV"]
[103,"SV"]
[104,"SV"]
[105,"SV"]
[106,"SV"]
[107,"SV"]
[108,"SV"]
[109,"SV"]
["F","XX"]